BEGIN:VCALENDAR
VERSION:2.0
PRODID:-//wp-events-plugin.com//7.2.3.1//EN
BEGIN:VEVENT
UID:1@tilmankoeneke.de
DTSTART;TZID=Europe/Berlin;VALUE=DATE:20231023
DTEND;TZID=Europe/Berlin;VALUE=DATE:20231028
DTSTAMP:20230810T072739Z
URL:https://tilmankoeneke.de/events/im-augenblick-achtsamkeit-und-fotograf
 ie/
SUMMARY:Meditative Fotografie - ein Foto-Retreat
DESCRIPTION:Wenn wir uns mit Fotografie befassen\, sind wir häufig mit tec
 hnischen und inhaltlichen Fragen sowie gestalterischen Konzepten beschäft
 igt.\n\nIn diesem Workshop lernst du\, Verbindung zu deiner Umgebung aufzu
 nehmen. Es geht darum\, den inneren Kritiker - den analytischen Verstand -
  zur Ruhe zu bringen und die Trennung von dir und deiner Umwelt für kurze
  Momente aufzulösen. Aus und in diesen Momenten können sehr kraftvolle B
 ilder entstehen. Wir werden uns im Jetzt bewegen\, uns von gängigen Bildv
 orstellungen und (auch eigenen) Erwartungen lösen und Klischees hinter un
 s lassen.\n\nWas du noch wissen solltest:\n\n 	Die Teilnehmerzahl ist auf 
 maximal 5 begrenzt\n 	Der Workshop wendet sich an fortgeschrittene Fotogra
 f*innen.\n 	Mitzubringen sind: wetterfeste Kleidung\, Kamera\, Akku und La
 degerät\, SD-Karten\, ggf. ein Stativ.\n 	Die Unterbringung erfolgt im I
 nselhaus Vielfalt\, das den Ausgangspunkt für den Workshop bildet. (Weite
 re Unterkünfte gibt es generell auf der ganzen Insel.)\n 	Fährverbindung
 en Norddeich &lt\;-&gt\; Juist findest du hier: https://www.inselfaehre.d
 e/juist\n 	Die Teilnahmekosten für den Workshop sind exklusive Anreise/Un
 terbringung/Verpflegung.\n\nUnentschlossen? Für weitere Informationen zum
  Ablauf sende bitte eine E-Mail an workshops@tilmankoeneke.de.
ATTACH;FMTTYPE=image/jpeg:https://tilmankoeneke.de/wp-content/uploads/2022
 /11/Achtsamkeit-und-Fotografie-Facebook-Cover.jpg
CATEGORIES:Retreat,Workshop
LOCATION:Inselhaus "Vielfalt"\, Juist\, Dünenstraße 15\, D-26571 Juist\, 
 Ostfriesische Inseln\, Deutschland
X-APPLE-STRUCTURED-LOCATION;VALUE=URI;X-ADDRESS=Dünenstraße 15\, D-26571 
 Juist\, Ostfriesische Inseln\, Deutschland;X-APPLE-RADIUS=100;X-TITLE=Inse
 lhaus \"Vielfalt\"\, Juist:geo:0,0
END:VEVENT
BEGIN:VTIMEZONE
TZID:Europe/Berlin
X-LIC-LOCATION:Europe/Berlin
BEGIN:DAYLIGHT
DTSTART:20230326T030000
TZOFFSETFROM:+0100
TZOFFSETTO:+0200
TZNAME:CEST
END:DAYLIGHT
END:VTIMEZONE
END:VCALENDAR